BEGIN:VCALENDAR
VERSION:2.0
PRODID:-//Stephens College - ECPv6.15.19//NONSGML v1.0//EN
CALSCALE:GREGORIAN
METHOD:PUBLISH
X-ORIGINAL-URL:https://stephens.edu
X-WR-CALDESC:Events for Stephens College
REFRESH-INTERVAL;VALUE=DURATION:PT1H
X-Robots-Tag:noindex
X-PUBLISHED-TTL:PT1H
BEGIN:VTIMEZONE
TZID:America/New_York
BEGIN:DAYLIGHT
TZOFFSETFROM:-0500
TZOFFSETTO:-0400
TZNAME:EDT
DTSTART:20240310T070000
END:DAYLIGHT
BEGIN:STANDARD
TZOFFSETFROM:-0400
TZOFFSETTO:-0500
TZNAME:EST
DTSTART:20241103T060000
END:STANDARD
BEGIN:DAYLIGHT
TZOFFSETFROM:-0500
TZOFFSETTO:-0400
TZNAME:EDT
DTSTART:20250309T070000
END:DAYLIGHT
BEGIN:STANDARD
TZOFFSETFROM:-0400
TZOFFSETTO:-0500
TZNAME:EST
DTSTART:20251102T060000
END:STANDARD
BEGIN:DAYLIGHT
TZOFFSETFROM:-0500
TZOFFSETTO:-0400
TZNAME:EDT
DTSTART:20260308T070000
END:DAYLIGHT
BEGIN:STANDARD
TZOFFSETFROM:-0400
TZOFFSETTO:-0500
TZNAME:EST
DTSTART:20261101T060000
END:STANDARD
END:VTIMEZONE
BEGIN:VEVENT
DTSTART;TZID=America/New_York:20251029T190000
DTEND;TZID=America/New_York:20251029T210000
DTSTAMP:20260424T143708
CREATED:20251021T191720Z
LAST-MODIFIED:20251021T191734Z
UID:8893-1761764400-1761771600@stephens.edu
SUMMARY:Stars Soccer Game vs. Hannibal-LaGrange University
DESCRIPTION:Come cheer on the Stephens Stars Soccer Team as they take the field against Hannibal-LaGrange University!\nGame Details:\nvs. Hannibal-LaGrange University\n📅 Date: October 29\n🕖 Time: 7 p.m.\n📍 Location: Battle High School – Soccer (7575 E St Charles Rd\, Columbia\, MO 65202) \nBuy Tickets
URL:https://stephens.edu/event-post/stars-soccer-game-vs-hannibal-lagrange-university/
LOCATION:Battle High School – Soccer\, 7575 E St Charles Rd\, Columbia\, MO\, 65202\, United States
CATEGORIES:Athletics,College & Campus
ATTACH;FMTTYPE=image/jpeg:https://stephens.edu/wp-content/uploads/2025/10/event_flyer_71_45067d46-400px.jpeg
END:VEVENT
END:VCALENDAR