BEGIN:VCALENDAR
VERSION:2.0
PRODID:-//Stephens College - ECPv6.15.19//NONSGML v1.0//EN
CALSCALE:GREGORIAN
METHOD:PUBLISH
X-ORIGINAL-URL:https://stephens.edu
X-WR-CALDESC:Events for Stephens College
REFRESH-INTERVAL;VALUE=DURATION:PT1H
X-Robots-Tag:noindex
X-PUBLISHED-TTL:PT1H
BEGIN:VTIMEZONE
TZID:America/New_York
BEGIN:DAYLIGHT
TZOFFSETFROM:-0500
TZOFFSETTO:-0400
TZNAME:EDT
DTSTART:20240310T070000
END:DAYLIGHT
BEGIN:STANDARD
TZOFFSETFROM:-0400
TZOFFSETTO:-0500
TZNAME:EST
DTSTART:20241103T060000
END:STANDARD
BEGIN:DAYLIGHT
TZOFFSETFROM:-0500
TZOFFSETTO:-0400
TZNAME:EDT
DTSTART:20250309T070000
END:DAYLIGHT
BEGIN:STANDARD
TZOFFSETFROM:-0400
TZOFFSETTO:-0500
TZNAME:EST
DTSTART:20251102T060000
END:STANDARD
BEGIN:DAYLIGHT
TZOFFSETFROM:-0500
TZOFFSETTO:-0400
TZNAME:EDT
DTSTART:20260308T070000
END:DAYLIGHT
BEGIN:STANDARD
TZOFFSETFROM:-0400
TZOFFSETTO:-0500
TZNAME:EST
DTSTART:20261101T060000
END:STANDARD
END:VTIMEZONE
BEGIN:VEVENT
DTSTART;VALUE=DATE:20251125
DTEND;VALUE=DATE:20251130
DTSTAMP:20260424T143807
CREATED:20251009T142257Z
LAST-MODIFIED:20251009T142257Z
UID:8625-1764028800-1764460799@stephens.edu
SUMMARY:Thanksgiving Break
DESCRIPTION:Thanksgiving Break Schedule\nCampus Schedule:\n\nNov. 24: Campus open\nNov. 25: Campus closes at 1 p.m.\nNov. 26 – 28: Campus closed\n\nStudent Academic Calendar:\n\nNov. 22-30: No classes\nClasses resume Dec. 1
URL:https://stephens.edu/event-post/thanksgiving-break/
LOCATION:Stephens College\, 1200 E. Broadway\, Columbia\, MO\, 65215\, United States
CATEGORIES:College & Campus
ATTACH;FMTTYPE=image/jpeg:https://stephens.edu/wp-content/uploads/2025/10/Events-Calendar-Photo.jpg
END:VEVENT
BEGIN:VEVENT
DTSTART;TZID=America/New_York:20251125T173000
DTEND;TZID=America/New_York:20251125T193000
DTSTAMP:20260424T143807
CREATED:20251021T192219Z
LAST-MODIFIED:20251021T192230Z
UID:8900-1764091800-1764099000@stephens.edu
SUMMARY:Stars Basketball Game vs. Evangel University
DESCRIPTION:Come cheer on the Stephens Stars Basketball Team as they take the court against Evangel University!\nGame Details:\nvs. Evangel University\n📅 Date: November 25\n🕖 Time: 5:30 p.m.\n📍 Location: Silverthorne Arena (107 Dorsey St\, Columbia\, MO 65201)\nBuy Tickets
URL:https://stephens.edu/event-post/stars-basketball-game-vs-evangel-university/
LOCATION:Silverthorne Arena\, 107 Dorsey St\, Columbia\, MO\, 65201\, United States
CATEGORIES:Athletics,College & Campus
END:VEVENT
END:VCALENDAR