BEGIN:VCALENDAR
VERSION:2.0
PRODID:-//Stephens College - ECPv6.15.19//NONSGML v1.0//EN
CALSCALE:GREGORIAN
METHOD:PUBLISH
X-ORIGINAL-URL:https://stephens.edu
X-WR-CALDESC:Events for Stephens College
REFRESH-INTERVAL;VALUE=DURATION:PT1H
X-Robots-Tag:noindex
X-PUBLISHED-TTL:PT1H
BEGIN:VTIMEZONE
TZID:America/Chicago
BEGIN:DAYLIGHT
TZOFFSETFROM:-0600
TZOFFSETTO:-0500
TZNAME:CDT
DTSTART:20250309T080000
END:DAYLIGHT
BEGIN:STANDARD
TZOFFSETFROM:-0500
TZOFFSETTO:-0600
TZNAME:CST
DTSTART:20251102T070000
END:STANDARD
BEGIN:DAYLIGHT
TZOFFSETFROM:-0600
TZOFFSETTO:-0500
TZNAME:CDT
DTSTART:20260308T080000
END:DAYLIGHT
BEGIN:STANDARD
TZOFFSETFROM:-0500
TZOFFSETTO:-0600
TZNAME:CST
DTSTART:20261101T070000
END:STANDARD
BEGIN:DAYLIGHT
TZOFFSETFROM:-0600
TZOFFSETTO:-0500
TZNAME:CDT
DTSTART:20270314T080000
END:DAYLIGHT
BEGIN:STANDARD
TZOFFSETFROM:-0500
TZOFFSETTO:-0600
TZNAME:CST
DTSTART:20271107T070000
END:STANDARD
END:VTIMEZONE
BEGIN:VEVENT
DTSTART;TZID=America/Chicago:20260312T190000
DTEND;TZID=America/Chicago:20260312T210000
DTSTAMP:20260424T082017
CREATED:20260310T154345Z
LAST-MODIFIED:20260310T161924Z
UID:11827-1773342000-1773349200@stephens.edu
SUMMARY:Illuminating Our Ideals: A New Era of Stephens
DESCRIPTION:Stephens Students: Join us as we celebrate the inauguration of President Lundeen and experience the official reveal of the Ten Ideals that will help shape the future of Stephens College. This is not just an event — it’s an immersive glow-in-the-dark experience you do NOT want to miss. Wear neon\, white\, or anything that glows and come ready to celebrate a new era at Stephens.\n\n\n7:00 PM – Doors Open | Main Floor Library Check-in | DJ\, Mocktails\, 360 Photo Booth\, and Glow Scavenger Hunt\n7:00–7:35 PM – Glow Experience | 3rd Floor | Students explore the library and participate in the scavenger hunt\n7:35 PM – Gather for the Reveal |Penthouse\n7:40 PM – Ten Ideals Reveal | Penthouse\n7:50 PM – Celebration Continues\n9:00 PM – Event Concludes\n\n\nFind more information about the Inauguration events at stephens.edu/inauguration/
URL:https://stephens.edu/event-post/illuminating-our-ideals-a-new-era-of-stephens/
LOCATION:Stephens Library\, 1200 E. Broadway\, Columbia\, MO\, 65215
CATEGORIES:Student Experience
ATTACH;FMTTYPE=image/png:https://stephens.edu/wp-content/uploads/2026/03/illuminating-our-ideals-digital-sign-1920x1080px.png
END:VEVENT
END:VCALENDAR