BEGIN:VCALENDAR
VERSION:2.0
PRODID:-//Stephens College - ECPv6.15.19//NONSGML v1.0//EN
CALSCALE:GREGORIAN
METHOD:PUBLISH
X-WR-CALNAME:Stephens College
X-ORIGINAL-URL:https://stephens.edu
X-WR-CALDESC:Events for Stephens College
REFRESH-INTERVAL;VALUE=DURATION:PT1H
X-Robots-Tag:noindex
X-PUBLISHED-TTL:PT1H
BEGIN:VTIMEZONE
TZID:America/Chicago
BEGIN:DAYLIGHT
TZOFFSETFROM:-0600
TZOFFSETTO:-0500
TZNAME:CDT
DTSTART:20250309T080000
END:DAYLIGHT
BEGIN:STANDARD
TZOFFSETFROM:-0500
TZOFFSETTO:-0600
TZNAME:CST
DTSTART:20251102T070000
END:STANDARD
BEGIN:DAYLIGHT
TZOFFSETFROM:-0600
TZOFFSETTO:-0500
TZNAME:CDT
DTSTART:20260308T080000
END:DAYLIGHT
BEGIN:STANDARD
TZOFFSETFROM:-0500
TZOFFSETTO:-0600
TZNAME:CST
DTSTART:20261101T070000
END:STANDARD
BEGIN:DAYLIGHT
TZOFFSETFROM:-0600
TZOFFSETTO:-0500
TZNAME:CDT
DTSTART:20270314T080000
END:DAYLIGHT
BEGIN:STANDARD
TZOFFSETFROM:-0500
TZOFFSETTO:-0600
TZNAME:CST
DTSTART:20271107T070000
END:STANDARD
END:VTIMEZONE
BEGIN:VEVENT
DTSTART;VALUE=DATE:20260313
DTEND;VALUE=DATE:20260316
DTSTAMP:20260424T081500
CREATED:20260214T005837Z
LAST-MODIFIED:20260214T010021Z
UID:11203-1773360000-1773619199@stephens.edu
SUMMARY:Firebringer: A New Stone Age Musical
DESCRIPTION:A tribe survives with the wise leadership of Jemilla\, The Peacemaker. Join her as she travels from omega to alpha to become the Firebringer. \n7:30 p.m. on March 13 & 14 | 2 p.m. on March 15 \nTickets\n 
URL:https://stephens.edu/event-post/firebringer-a-new-stone-age-musical/
LOCATION:Warehouse Theatre\, 104 Willis Avenue\, Columbia\, MO\, 65201\, United States
CATEGORIES:Performing Arts,Student Experience
ATTACH;FMTTYPE=image/png:https://stephens.edu/wp-content/uploads/2026/02/Firebringer-Poster-e1771030543103.png
ORGANIZER;CN="Conservatory for the Performing Arts":MAILTO:boxoffice@stephens.edu
END:VEVENT
BEGIN:VEVENT
DTSTART;TZID=America/Chicago:20260314T100000
DTEND;TZID=America/Chicago:20260314T100000
DTSTAMP:20260424T081500
CREATED:20260121T140939Z
LAST-MODIFIED:20260310T155145Z
UID:10434-1773482400-1773482400@stephens.edu
SUMMARY:Investiture Ceremony & Reception
DESCRIPTION:Celebrating the Investiture of Dr. Shannon B. Lundeen\, 25th President of Stephens College\nInvestiture Ceremony & Reception\nDoors open at 10:00 a.m.\nCeremony begins at 11:00 a.m.\nReception to follow \nIndoor Arena (Located at Stephens College Equestrian Center\, 381-499 Old 63 N) \nAdmission: RSVP required; Ticketed event. \nPlease contact us at trustee@stephens.edu for any questions you may have about the inaugural events.
URL:https://stephens.edu/event-post/investiture-ceremony-reception/
LOCATION:Stephens College Equestrian Center\, 203 Old 63 N\, Columbia\, MO\, 65201\, United States
CATEGORIES:Alumni,College & Campus,Community
ATTACH;FMTTYPE=image/jpeg:https://stephens.edu/wp-content/uploads/2026/01/Video-Card-intro-scaled.jpg
END:VEVENT
END:VCALENDAR