BEGIN:VCALENDAR
VERSION:2.0
PRODID:-//Stephens College - ECPv6.15.19//NONSGML v1.0//EN
CALSCALE:GREGORIAN
METHOD:PUBLISH
X-WR-CALNAME:Stephens College
X-ORIGINAL-URL:https://stephens.edu
X-WR-CALDESC:Events for Stephens College
REFRESH-INTERVAL;VALUE=DURATION:PT1H
X-Robots-Tag:noindex
X-PUBLISHED-TTL:PT1H
BEGIN:VTIMEZONE
TZID:America/Chicago
BEGIN:DAYLIGHT
TZOFFSETFROM:-0600
TZOFFSETTO:-0500
TZNAME:CDT
DTSTART:20250309T080000
END:DAYLIGHT
BEGIN:STANDARD
TZOFFSETFROM:-0500
TZOFFSETTO:-0600
TZNAME:CST
DTSTART:20251102T070000
END:STANDARD
BEGIN:DAYLIGHT
TZOFFSETFROM:-0600
TZOFFSETTO:-0500
TZNAME:CDT
DTSTART:20260308T080000
END:DAYLIGHT
BEGIN:STANDARD
TZOFFSETFROM:-0500
TZOFFSETTO:-0600
TZNAME:CST
DTSTART:20261101T070000
END:STANDARD
BEGIN:DAYLIGHT
TZOFFSETFROM:-0600
TZOFFSETTO:-0500
TZNAME:CDT
DTSTART:20270314T080000
END:DAYLIGHT
BEGIN:STANDARD
TZOFFSETFROM:-0500
TZOFFSETTO:-0600
TZNAME:CST
DTSTART:20271107T070000
END:STANDARD
END:VTIMEZONE
BEGIN:VEVENT
DTSTART;TZID=America/Chicago:20260422T130000
DTEND;TZID=America/Chicago:20260422T140000
DTSTAMP:20260422T050940
CREATED:20260420T213208Z
LAST-MODIFIED:20260420T213208Z
UID:12800-1776862800-1776866400@stephens.edu
SUMMARY:Fostering Community Connection
DESCRIPTION:Join us for a virtual workshop featuring a dynamic speaker who will share insights from her experience in storytelling\, collaboration\, and community engagement. \nApril 22\, 1:00pm (CST) | Register here. \nSpeaker: Lindsey Weber ’08 | Community Relations Manager | St. Louis \nSt. Louis native and proud 2008 graduate of Stephens College\, Lindsey Weber has been making an impact with the St. Louis Cardinals since 2012. As Community Relations Manager\, she partners with the team’s charitable foundation\, Cardinals Care\, to champion meaningful change through granting wishes for critically ill children\, supporting local nonprofits\, advancing inclusivity at the ballpark\, and leading fundraising efforts for vital community causes. Lindsey is also a proud member of the Stephens College Board of Trustees. \nModerator: Caylin Capra-Thomas | Author\, Professor of English & Creative Writing | Stephens College
URL:https://stephens.edu/event-post/fostering-community-connection-2/
LOCATION:Zoom
CATEGORIES:Alumni Success,College & Campus
ATTACH;FMTTYPE=image/jpeg:https://stephens.edu/wp-content/uploads/2026/04/Kopenhaver-Workshop-SC-1366-x-768-px-2.jpg
END:VEVENT
END:VCALENDAR