BEGIN:VCALENDAR
VERSION:2.0
PRODID:-//Stephens College - ECPv6.15.19//NONSGML v1.0//EN
CALSCALE:GREGORIAN
METHOD:PUBLISH
X-ORIGINAL-URL:https://stephens.edu
X-WR-CALDESC:Events for Stephens College
REFRESH-INTERVAL;VALUE=DURATION:PT1H
X-Robots-Tag:noindex
X-PUBLISHED-TTL:PT1H
BEGIN:VTIMEZONE
TZID:America/New_York
BEGIN:DAYLIGHT
TZOFFSETFROM:-0500
TZOFFSETTO:-0400
TZNAME:EDT
DTSTART:20240310T070000
END:DAYLIGHT
BEGIN:STANDARD
TZOFFSETFROM:-0400
TZOFFSETTO:-0500
TZNAME:EST
DTSTART:20241103T060000
END:STANDARD
BEGIN:DAYLIGHT
TZOFFSETFROM:-0500
TZOFFSETTO:-0400
TZNAME:EDT
DTSTART:20250309T070000
END:DAYLIGHT
BEGIN:STANDARD
TZOFFSETFROM:-0400
TZOFFSETTO:-0500
TZNAME:EST
DTSTART:20251102T060000
END:STANDARD
BEGIN:DAYLIGHT
TZOFFSETFROM:-0500
TZOFFSETTO:-0400
TZNAME:EDT
DTSTART:20260308T070000
END:DAYLIGHT
BEGIN:STANDARD
TZOFFSETFROM:-0400
TZOFFSETTO:-0500
TZNAME:EST
DTSTART:20261101T060000
END:STANDARD
END:VTIMEZONE
BEGIN:VEVENT
DTSTART;TZID=America/New_York:20251107T093000
DTEND;TZID=America/New_York:20251107T150000
DTSTAMP:20260422T192335
CREATED:20241016T024939Z
LAST-MODIFIED:20251014T175207Z
UID:2347-1762507800-1762527600@stephens.edu
SUMMARY:Preview Day
DESCRIPTION:This is your opportunity to experience a college and culture that embraces YOU.\nWe believe in hands-on (we like to call it “hands-IN”)\, immersive learning\, critical thinking and empowering women’s leadership and personal success. \n\n\nRegister For Preview Day\n\nPreview Day Agenda:\n\n9:30 – 10:00 a.m. – Check-in\n10:00 – 10:15 a.m. – Welcome to Stephens\n10:15 – 11:30 a.m. – Overview of Financial Aid\, Academics and Student Experience (Life on Campus and Study Abroad Experience)\n11:30 – 11:45 a.m. – Student Panel\n11:45 a.m. – 12:30 p.m. – Campus Tour\n12:30 – 1:30 p.m. – Enjoy lunch on us at Stamper Dining Hall and grab your Stephens gear at Susie’s\n1:30 – 3:00 p.m. – Immersive Experience
URL:https://stephens.edu/event-post/11-7-25-preview-day/
LOCATION:Lela Raney Wood Hall (LRW)\, 6 N. College Ave\, Columbia\, MO\, 65215\, United States
CATEGORIES:Admissions,College & Campus
ATTACH;FMTTYPE=image/png:https://stephens.edu/wp-content/uploads/2024/10/Events-Calendar-Photo.png
END:VEVENT
END:VCALENDAR