BEGIN:VCALENDAR
VERSION:2.0
PRODID:-//Stephens College - ECPv6.15.19//NONSGML v1.0//EN
CALSCALE:GREGORIAN
METHOD:PUBLISH
X-WR-CALNAME:Stephens College
X-ORIGINAL-URL:https://stephens.edu
X-WR-CALDESC:Events for Stephens College
REFRESH-INTERVAL;VALUE=DURATION:PT1H
X-Robots-Tag:noindex
X-PUBLISHED-TTL:PT1H
BEGIN:VTIMEZONE
TZID:America/New_York
BEGIN:DAYLIGHT
TZOFFSETFROM:-0500
TZOFFSETTO:-0400
TZNAME:EDT
DTSTART:20240310T070000
END:DAYLIGHT
BEGIN:STANDARD
TZOFFSETFROM:-0400
TZOFFSETTO:-0500
TZNAME:EST
DTSTART:20241103T060000
END:STANDARD
BEGIN:DAYLIGHT
TZOFFSETFROM:-0500
TZOFFSETTO:-0400
TZNAME:EDT
DTSTART:20250309T070000
END:DAYLIGHT
BEGIN:STANDARD
TZOFFSETFROM:-0400
TZOFFSETTO:-0500
TZNAME:EST
DTSTART:20251102T060000
END:STANDARD
BEGIN:DAYLIGHT
TZOFFSETFROM:-0500
TZOFFSETTO:-0400
TZNAME:EDT
DTSTART:20260308T070000
END:DAYLIGHT
BEGIN:STANDARD
TZOFFSETFROM:-0400
TZOFFSETTO:-0500
TZNAME:EST
DTSTART:20261101T060000
END:STANDARD
END:VTIMEZONE
BEGIN:VEVENT
DTSTART;VALUE=DATE:20251031
DTEND;VALUE=DATE:20251103
DTSTAMP:20260422T172352
CREATED:20251009T142538Z
LAST-MODIFIED:20251009T142603Z
UID:8629-1761868800-1762127999@stephens.edu
SUMMARY:The Haunting of Hill House
DESCRIPTION:Cut off from the outside world by its remote location and shunned by all who know its forbidding and sinister reputation\, Hill House has remained empty and silent.\nNovel by Shirley Jackson & Adapted by F. Andrew Leslie \nBased on the iconic gothic novel by Shirley Jackson\, The Haunting of Hill House is a chilling and suspenseful play that explores the thin veil between reality and the supernatural. When a small group of strangers gathers at the mysterious Hill House for a paranormal investigation\, they soon discover that the house is far from empty—and that its dark secrets have a terrifying life of their own. With mounting psychological tension\, eerie encounters\, and a descent into madness\, this gripping theatrical adaptation will keep audiences on the edge of their seats. Prepare for an unforgettable journey into Hill House! \nAdapted for the stage by F. Andrew Leslie\nNovel by Shirley Jackson \nThe Haunting of Hill House is licensed through Dramatists Play Service. \nShowtimes:\n\nFriday\, October 31 | 11 a.m.\nSaturday\, November 1 | 2 p.m. & 7:30 p.m.\nSunday\, November 2 | 2:00 p.m.\n\n\nTickets
URL:https://stephens.edu/event-post/the-haunting-of-hill-house/
LOCATION:Macklanburg Playhouse\, 100 Willis Ave\, Columbia\, MO\, 65201\, United States
CATEGORIES:College & Campus,Community,Performing Arts
ATTACH;FMTTYPE=image/png:https://stephens.edu/wp-content/uploads/2024/10/25-26-FB-event-toppers-4.png
ORGANIZER;CN="Conservatory for the Performing Arts":MAILTO:boxoffice@stephens.edu
END:VEVENT
BEGIN:VEVENT
DTSTART;VALUE=DATE:20251114
DTEND;VALUE=DATE:20251118
DTSTAMP:20260422T172352
CREATED:20251009T142423Z
LAST-MODIFIED:20251112T174751Z
UID:8627-1763078400-1763423999@stephens.edu
SUMMARY:48-Hour Filmmaking Competition
DESCRIPTION:Stephens College Conservatory is hosting its first ever 48-Hour Film Competition.\nThis event brings together creativity\, collaboration\, and Columbia’s vibrant film community. \n\nRegister your team here\n\n48-Hour Film Competition Information\n\nBegins Friday\, November 14 at 7 p.m. via YouTube Live Stream\nDeadline to submit is Sunday\, November\, 16 at 7 p.m.\nFree Screening on Monday\, November 17; 7p.m. to 9:30 p.m.\n\n48-Hour Film Competition Rules\n\nFilm Length: 3–5 minutes\nTime Limit: Films must be written\, shot\, and edited within the 48-hour window\nRequired Elements: Each film must include the genre\, prop\, line of dialogue\, and character announced at the live launch\nLaunch: Begins Friday\, November 14 at 7 p.m. via YouTube Live Stream (see below for link)\nDeadline: Films must be submitted to the Googledoc folder by Sunday\, November 16 at 7 p.m. SHARP!\nScreening: Finalist films will premiere at Ragtag Cinema on Monday\, November 17\, 7–9:30 p.m.\nEntry Fee: None (free to participate)\nTeam Size: Open — create with as many or as few friends as you’d like\nContent Guidelines:\n\nKeep it PG-13\nNo gun violence\nNo hateful content\n\n\nCreative Spirit: Remember — it is better to create than to destroy\n\nFree public screening on November 17\, 2025 at Ragtag Cinema (10 Hitt Street\, Columbia\, MO 65201) \n \nQuestions? Email cthompson@stephens.edu
URL:https://stephens.edu/event-post/48-hour-filmmaking-competition/
LOCATION:Stephens College\, 1200 E. Broadway\, Columbia\, MO\, 65215\, United States
CATEGORIES:College & Campus,Community,Performing Arts
ATTACH;FMTTYPE=image/png:https://stephens.edu/wp-content/uploads/2025/09/FBeventcoverstill.png
ORGANIZER;CN="Conservatory for the Performing Arts":MAILTO:boxoffice@stephens.edu
END:VEVENT
END:VCALENDAR