BEGIN:VCALENDAR
VERSION:2.0
PRODID:-//Stephens College - ECPv6.15.19//NONSGML v1.0//EN
CALSCALE:GREGORIAN
METHOD:PUBLISH
X-ORIGINAL-URL:https://stephens.edu
X-WR-CALDESC:Events for Stephens College
REFRESH-INTERVAL;VALUE=DURATION:PT1H
X-Robots-Tag:noindex
X-PUBLISHED-TTL:PT1H
BEGIN:VTIMEZONE
TZID:America/New_York
BEGIN:DAYLIGHT
TZOFFSETFROM:-0500
TZOFFSETTO:-0400
TZNAME:EDT
DTSTART:20240310T070000
END:DAYLIGHT
BEGIN:STANDARD
TZOFFSETFROM:-0400
TZOFFSETTO:-0500
TZNAME:EST
DTSTART:20241103T060000
END:STANDARD
BEGIN:DAYLIGHT
TZOFFSETFROM:-0500
TZOFFSETTO:-0400
TZNAME:EDT
DTSTART:20250309T070000
END:DAYLIGHT
BEGIN:STANDARD
TZOFFSETFROM:-0400
TZOFFSETTO:-0500
TZNAME:EST
DTSTART:20251102T060000
END:STANDARD
BEGIN:DAYLIGHT
TZOFFSETFROM:-0500
TZOFFSETTO:-0400
TZNAME:EDT
DTSTART:20260308T070000
END:DAYLIGHT
BEGIN:STANDARD
TZOFFSETFROM:-0400
TZOFFSETTO:-0500
TZNAME:EST
DTSTART:20261101T060000
END:STANDARD
END:VTIMEZONE
BEGIN:VEVENT
DTSTART;TZID=America/New_York:20251028T180000
DTEND;TZID=America/New_York:20251028T200000
DTSTAMP:20260422T190536
CREATED:20251009T142656Z
LAST-MODIFIED:20251009T143555Z
UID:8631-1761674400-1761681600@stephens.edu
SUMMARY:Stars Volleyball Game vs. Harris-Stowe University
DESCRIPTION:Come cheer on the Stephens Stars Volleyball Team as they take the court against Harris-Stowe University!\nGame Details:\nvs. Harris-Stowe University\n📅 Date: October 28\n🕖 Time: 6 p.m.\n📍 Location: Silverthorne Arena (107 Dorsey St\, Columbia\, MO 65201)\nBuy Tickets
URL:https://stephens.edu/event-post/stars-volleyball-game-vs-harris-stowe-university/
LOCATION:Silverthorne Arena\, 107 Dorsey St\, Columbia\, MO\, 65201\, United States
CATEGORIES:Athletics,College & Campus,Community
ATTACH;FMTTYPE=image/jpeg:https://stephens.edu/wp-content/uploads/2025/10/event_flyer_70_c569e4c6-400px.jpeg
END:VEVENT
END:VCALENDAR