BEGIN:VCALENDAR
VERSION:2.0
PRODID:-//Stephens College - ECPv6.15.19//NONSGML v1.0//EN
CALSCALE:GREGORIAN
METHOD:PUBLISH
X-ORIGINAL-URL:https://stephens.edu
X-WR-CALDESC:Events for Stephens College
REFRESH-INTERVAL;VALUE=DURATION:PT1H
X-Robots-Tag:noindex
X-PUBLISHED-TTL:PT1H
BEGIN:VTIMEZONE
TZID:America/New_York
BEGIN:DAYLIGHT
TZOFFSETFROM:-0500
TZOFFSETTO:-0400
TZNAME:EDT
DTSTART:20240310T070000
END:DAYLIGHT
BEGIN:STANDARD
TZOFFSETFROM:-0400
TZOFFSETTO:-0500
TZNAME:EST
DTSTART:20241103T060000
END:STANDARD
BEGIN:DAYLIGHT
TZOFFSETFROM:-0500
TZOFFSETTO:-0400
TZNAME:EDT
DTSTART:20250309T070000
END:DAYLIGHT
BEGIN:STANDARD
TZOFFSETFROM:-0400
TZOFFSETTO:-0500
TZNAME:EST
DTSTART:20251102T060000
END:STANDARD
BEGIN:DAYLIGHT
TZOFFSETFROM:-0500
TZOFFSETTO:-0400
TZNAME:EDT
DTSTART:20260308T070000
END:DAYLIGHT
BEGIN:STANDARD
TZOFFSETFROM:-0400
TZOFFSETTO:-0500
TZNAME:EST
DTSTART:20261101T060000
END:STANDARD
END:VTIMEZONE
BEGIN:VEVENT
DTSTART;TZID=America/New_York:20251023T153000
DTEND;TZID=America/New_York:20251023T163000
DTSTAMP:20260421T020808
CREATED:20251021T210705Z
LAST-MODIFIED:20251021T210850Z
UID:8904-1761233400-1761237000@stephens.edu
SUMMARY:Surviving College Writing
DESCRIPTION:Please join the Student Success Center for a writing workshop\, including snacks and a raffle! The event will be held at 3:30 p.m. on Oct. 23 in the Library Teaching & Testing Lab (lower level of the Library).
URL:https://stephens.edu/event-post/surviving-college-writing/
LOCATION:Stephens Library\, 1200 E. Broadway\, Columbia\, MO\, 65215
CATEGORIES:College & Campus,Student Experience
ORGANIZER;CN="Student Success Center":MAILTO:successcenter@stephens.edu
END:VEVENT
END:VCALENDAR