BEGIN:VCALENDAR
VERSION:2.0
PRODID:-//Stephens College - ECPv6.15.19//NONSGML v1.0//EN
CALSCALE:GREGORIAN
METHOD:PUBLISH
X-WR-CALNAME:Stephens College
X-ORIGINAL-URL:https://stephens.edu
X-WR-CALDESC:Events for Stephens College
REFRESH-INTERVAL;VALUE=DURATION:PT1H
X-Robots-Tag:noindex
X-PUBLISHED-TTL:PT1H
BEGIN:VTIMEZONE
TZID:America/Chicago
BEGIN:DAYLIGHT
TZOFFSETFROM:-0600
TZOFFSETTO:-0500
TZNAME:CDT
DTSTART:20250309T080000
END:DAYLIGHT
BEGIN:STANDARD
TZOFFSETFROM:-0500
TZOFFSETTO:-0600
TZNAME:CST
DTSTART:20251102T070000
END:STANDARD
BEGIN:DAYLIGHT
TZOFFSETFROM:-0600
TZOFFSETTO:-0500
TZNAME:CDT
DTSTART:20260308T080000
END:DAYLIGHT
BEGIN:STANDARD
TZOFFSETFROM:-0500
TZOFFSETTO:-0600
TZNAME:CST
DTSTART:20261101T070000
END:STANDARD
BEGIN:DAYLIGHT
TZOFFSETFROM:-0600
TZOFFSETTO:-0500
TZNAME:CDT
DTSTART:20270314T080000
END:DAYLIGHT
BEGIN:STANDARD
TZOFFSETFROM:-0500
TZOFFSETTO:-0600
TZNAME:CST
DTSTART:20271107T070000
END:STANDARD
END:VTIMEZONE
BEGIN:VTIMEZONE
TZID:America/New_York
BEGIN:DAYLIGHT
TZOFFSETFROM:-0500
TZOFFSETTO:-0400
TZNAME:EDT
DTSTART:20250309T070000
END:DAYLIGHT
BEGIN:STANDARD
TZOFFSETFROM:-0400
TZOFFSETTO:-0500
TZNAME:EST
DTSTART:20251102T060000
END:STANDARD
BEGIN:DAYLIGHT
TZOFFSETFROM:-0500
TZOFFSETTO:-0400
TZNAME:EDT
DTSTART:20260308T070000
END:DAYLIGHT
BEGIN:STANDARD
TZOFFSETFROM:-0400
TZOFFSETTO:-0500
TZNAME:EST
DTSTART:20261101T060000
END:STANDARD
BEGIN:DAYLIGHT
TZOFFSETFROM:-0500
TZOFFSETTO:-0400
TZNAME:EDT
DTSTART:20270314T070000
END:DAYLIGHT
BEGIN:STANDARD
TZOFFSETFROM:-0400
TZOFFSETTO:-0500
TZNAME:EST
DTSTART:20271107T060000
END:STANDARD
END:VTIMEZONE
BEGIN:VEVENT
DTSTART;TZID=America/Chicago:20260423T173000
DTEND;TZID=America/Chicago:20260423T183000
DTSTAMP:20260424T113716
CREATED:20260414T202039Z
LAST-MODIFIED:20260414T202039Z
UID:12596-1776965400-1776969000@stephens.edu
SUMMARY:Senior Portfolio Artist Talks
DESCRIPTION:Davis Gallery\, 5:30-6:30 p.m. \nWine and Light Snacks provided.
URL:https://stephens.edu/event-post/senior-portfolio-artist-talks/
LOCATION:Davis Art Gallery\, 1414 E Walnut St\, Columbia\, MO\, 65201\, United States
ATTACH;FMTTYPE=image/jpeg:https://stephens.edu/wp-content/uploads/2026/04/WornOutPosterWithFilm-Screen-Format.jpg
END:VEVENT
BEGIN:VEVENT
DTSTART;TZID=America/Chicago:20260423T183000
DTEND;TZID=America/Chicago:20260423T203000
DTSTAMP:20260424T113716
CREATED:20260417T213757Z
LAST-MODIFIED:20260417T213833Z
UID:12690-1776969000-1776976200@stephens.edu
SUMMARY:Harbinger Launch Party
DESCRIPTION:Join us for an evening of celebration as we recognize the contributors and staff of Harbinger and usher the newest edition out into the world! There will be refreshments for all\, and a broadside display in the lower floor of the library.
URL:https://stephens.edu/event-post/harbinger-launch-party/
LOCATION:Hugh Stephens Library Penthouse\, 100 Waugh St\, Columbia\, MO\, 65201\, United States
CATEGORIES:College & Campus,Student Experience,Student Success
ATTACH;FMTTYPE=image/png:https://stephens.edu/wp-content/uploads/2026/04/Harbinger-2026-Flyer-1-e1776461729671.png
END:VEVENT
BEGIN:VEVENT
DTSTART;VALUE=DATE:20260424
DTEND;VALUE=DATE:20260427
DTSTAMP:20260424T113716
CREATED:20251009T135022Z
LAST-MODIFIED:20251009T184348Z
UID:8608-1776988800-1777247999@stephens.edu
SUMMARY:Curtain Up!
DESCRIPTION:A dynamic showcase from the Conservatory for the Performing Arts.\nJoin us for Curtain Up!\, a brand new and dynamic showcase from the Conservatory for the Performing Arts that celebrates the talent\, passion\, and versatility of our students. This 90-minute performance features an exciting blend of music\, acting\, and dance—highlighting original and classic works brought to life with heart and artistry. From comedic short plays and show-stopping vocals to captivating choreography\, Curtain Up is an inspiring evening of performance that shines a spotlight on the next generation of performing artists. Don’t miss this vibrant celebration of creativity and craft! \n7:30 p.m. on April 24 & 25 | 2 p.m. on April 26 \n\nTickets
URL:https://stephens.edu/event-post/curtain-up-26/
LOCATION:Macklanburg Playhouse\, 100 Willis Ave\, Columbia\, MO\, 65201\, United States
CATEGORIES:College & Campus,Community,Performing Arts
ATTACH;FMTTYPE=image/png:https://stephens.edu/wp-content/uploads/2025/08/25-26-FB-event-toppers-8.png
ORGANIZER;CN="Conservatory for the Performing Arts":MAILTO:boxoffice@stephens.edu
END:VEVENT
BEGIN:VEVENT
DTSTART;TZID=America/Chicago:20260424T110000
DTEND;TZID=America/Chicago:20260424T150000
DTSTAMP:20260424T113716
CREATED:20260417T205703Z
LAST-MODIFIED:20260417T211205Z
UID:12679-1777028400-1777042800@stephens.edu
SUMMARY:Susie's Pop Up & Spring Student-Design Drop
DESCRIPTION:Check out the Susie’s pop-up in the quad outside the Firestone Baars Chapel between 11am-3pm on Friday\, April 24th! This event will feature Susie’s spring student-designed merchandise drop\, highlighting work created by Stephens students in Creative Ink. \nThe regular store location will also be open prior to the pop-up from 9-11 a.m. on Friday\, April 24 to accommodate the Alumni Weekend festivities. \n 
URL:https://stephens.edu/event-post/susies-pop-up-spring-student-design-drop/
CATEGORIES:College & Campus,Community,Student Experience
ATTACH;FMTTYPE=image/png:https://stephens.edu/wp-content/uploads/2026/04/Screenshot-2026-04-17-at-3.51.51-PM.png
END:VEVENT
BEGIN:VEVENT
DTSTART;VALUE=DATE:20260425
DTEND;VALUE=DATE:20260426
DTSTAMP:20260424T113716
CREATED:20260305T195831Z
LAST-MODIFIED:20260305T201216Z
UID:11728-1777075200-1777161599@stephens.edu
SUMMARY:The Collections 82nd Annual Fashion Show
DESCRIPTION:The 82nd Annual Collections Fashion Show will be held at Stephens College on Saturday\, April 25th in Windsor Auditorium.\n\n\n\n\nCome join us for the 82nd annual student designer fashion show\, The Collections. Show times are April 25th at 2:00pm\, 4:30pm\, and 7:00pm in the Windsor Auditorium on the Stephens College Campus. The Collections is a culmination of the students’ creative work over the course of the academic year. \nYear after year\, Stephens College fashion students set their sights on what they believe to be fashion’s new vision. By layering past and present and exploring the connections between them\, we were led to this year’s theme – Interwoven. Interwoven envisions fashion as a reflection of our shared experiences\, where garments and people are shaped through connection. Every garment layers moments\, movements\, and memories\, carrying the past forward. We all carry a heritage; collecting and expanding stories\, experiences\, and connections as we interweave with the people\, places\, and communities we encounter. These convergences create the fabric of a moment in time. Each garment\, like each person\, is woven and shaped to layer our histories throughout its journey\, becoming something unified\, textured\, and deeply human. Thus\, clothing becomes a physical record of our shared humanity\, and a visible expression of our collective narrative. \nPremier ticket holders enjoy premium seating at the show\, ensuring an unparalleled viewing experience. Additionally\, their experience is further enhanced with a Swag Bag filled with locally sourced products. \nFor more information\, visit: thecollectionsfashionshow.com or email: fashion@stephens.edu \nBuy Tickets on EventBrite \nTake a look behind the scenes with this Inside Columbia article!
URL:https://stephens.edu/event-post/the-collections-82nd-annual-fashion-show/
LOCATION:Windsor Auditorium
CATEGORIES:Student Experience,Student Success
ATTACH;FMTTYPE=image/png:https://stephens.edu/wp-content/uploads/2026/03/Edited-Fashion-Show-Banner-scaled.png
ORGANIZER;CN="Stephens College Fashion Department":MAILTO:fashion@stephens.edu
END:VEVENT
BEGIN:VEVENT
DTSTART;TZID=America/Chicago:20260425T080000
DTEND;TZID=America/Chicago:20260425T080000
DTSTAMP:20260424T113716
CREATED:20260317T162053Z
LAST-MODIFIED:20260416T035521Z
UID:11968-1777104000-1777104000@stephens.edu
SUMMARY:Preview Day - Heritage and Horizons
DESCRIPTION:Preview Day – Heritage and Horizons\nIdeal for Freshmen – Juniors in High School \nRegister For Preview Day \nPreview Day Agenda: \n\n8:45 – 9:00 a.m. – Check-in\n9:00 – 9:15 a.m. – Welcome\n9:15 – 9:30 a.m. – Young Alumni Panel (Heritage)\n9:45 – 10:00 a.m. – Student Panel (Horizon)\n10:00 a.m. – 10:45 p.m. – Overview of Academics and Student Experience\n10:45 – 11:45 p.m. – Campus Tours\n11:45 – 12:45 p.m. – Enjoy lunch on us at Stamper Dining Hall\n\nAfternoon options (Pre-registration Required): \n\n12:30 p.m. – 3:00 p.m. Prince of Wales Centennial Luncheon & Equestrian Experience | Equestrian Arena | Transportation Provided | Meet in LRW Parking Lot\nFashion Shows: 2:00 p.m. | 4:30 p.m. | 7:00 p.m. The Collections Fashion Show | Windsor Auditorium\nConservatory Show: 7:30 p.m.  “Curtain up” – Senior Theatre Showcase | Macklanburg Playhouse
URL:https://stephens.edu/event-post/preview-day/
LOCATION:Stephens College\, 1200 E. Broadway\, Columbia\, MO\, 65215\, United States
CATEGORIES:Admissions
ATTACH;FMTTYPE=image/png:https://stephens.edu/wp-content/uploads/2024/10/Events-Calendar-Photo.png
END:VEVENT
BEGIN:VEVENT
DTSTART;TZID=America/Chicago:20260426T190000
DTEND;TZID=America/Chicago:20260426T200000
DTSTAMP:20260424T113716
CREATED:20260408T132659Z
LAST-MODIFIED:20260408T132659Z
UID:12362-1777230000-1777233600@stephens.edu
SUMMARY:MFA Virtual Open House - Q&A with Director Rosanne Welch
DESCRIPTION:Join us for a Virtual Open House hosted by the MFA in TV and Screenwriting program—your chance to explore what makes our two-year\, low-residency model both flexible and creatively invigorating. \nProgram Director Rosanne Welch will be there to guide you through the application process\, share insights into the curriculum\, and offer a candid look at what life is like for writers in our unique graduate community. \nYou’ll also have the opportunity to meet with current graduate assistants\, hear about their experiences firsthand\, and get answers to any questions you may have about coursework\, mentorship\, or the day-to-day rhythm of the program. \nWhether you’re polishing your portfolio or just beginning to consider an MFA\, this open house is the perfect place to envision your next step as a screenwriter. \nHeld virtually via Zoom – two dates available:\nApril 15 at 4 pm (PT) | 6 pm (CT) | 7 pm (ET)\nApril 26 at 5 pm (PT) | 7 pm (CT) | 8 pm (ET)\nRegister Here
URL:https://stephens.edu/event-post/mfa-virtual-open-house-qa-with-director-rosanne-welch-4/
LOCATION:Zoom
CATEGORIES:Performing Arts
ATTACH;FMTTYPE=image/jpeg:https://stephens.edu/wp-content/uploads/2025/12/Outlook-forms-topper-8_Kristy-Simpson-scaled.jpg
ORGANIZER;CN="Conservatory for the Performing Arts":MAILTO:boxoffice@stephens.edu
END:VEVENT
BEGIN:VEVENT
DTSTART;TZID=America/Chicago:20260428T190000
DTEND;TZID=America/Chicago:20260428T204500
DTSTAMP:20260424T113716
CREATED:20260330T204753Z
LAST-MODIFIED:20260330T204844Z
UID:12210-1777402800-1777409100@stephens.edu
SUMMARY:Swift Night Out: A Tour of Bird-Friendly Chimneys in Downtown Columbia
DESCRIPTION:Join the US Fish & Wildlife Service and Columbia Audubon Society to explore the architecture of downtown Columbia from the perspective of Chimney Swifts and to watch for possible roosting activity during Spring Migration. Meet at the corner of 6th and Cherry (in front of the parking garage) at 7:00 p.m. Total round trip walking distance will likely be ~1 mile on city streets. We’ll return to the starting point by 8:45 p.m. Bring binoculars if you have them. \nThis walk is co-sponsored by US Fish & Wildlife Service and Columbia Audubon Society. \nQuestions? Contact Erin Holmes at erin_l_holmes@fws.gov. \nDownload the events flyer here.
URL:https://stephens.edu/event-post/swift-night-out-a-tour-of-bird-friendly-chimneys-in-downtown-columbia/
LOCATION:6th & Cherry\, 555 Locust St\, Columbia\, Missouri\, 65201\, United States
CATEGORIES:School of Integrative Studies,Student Experience
ATTACH;FMTTYPE=image/png:https://stephens.edu/wp-content/uploads/2026/03/Screenshot-2026-03-30-at-3.47.16-PM.png
END:VEVENT
BEGIN:VEVENT
DTSTART;VALUE=DATE:20260501
DTEND;VALUE=DATE:20260504
DTSTAMP:20260424T113716
CREATED:20260417T221629Z
LAST-MODIFIED:20260423T184501Z
UID:12696-1777593600-1777852799@stephens.edu
SUMMARY:Stephens Wears Prada: Global Alumni Event
DESCRIPTION:Join fellow Stephens College alumni near you for “Stephens Wears Prada“\, a global alumni watch party celebrating The Devil Wears Prada 2 during opening weekend (May 1-May 3). Dress in your most fabulous fashion\, attend the movie together\, snap photos\, and share your standout style while reconnecting with fellow alums. \nFind an event in your city—or host your own—through the Stephens Alumni Facebook Page. \nBe sure to tag the Stephens College Facebook or Instagram pages and use hashtags\, #StephensWearsPrada & #StephensCollegeAlum. \nHosted by Stephens College Alumni; contact alums@stephens.edu for questions.
URL:https://stephens.edu/event-post/stephens-wears-prada-global-alumni-event/
CATEGORIES:Alumni
ATTACH;FMTTYPE=image/png:https://stephens.edu/wp-content/uploads/2026/04/Web_head_Devil-Wears-Prada.png
ORGANIZER;CN="Office of Advancement":MAILTO:alums@stephens.edu
END:VEVENT
BEGIN:VEVENT
DTSTART;TZID=America/Chicago:20260501T170000
DTEND;TZID=America/Chicago:20260501T180000
DTSTAMP:20260424T113716
CREATED:20260414T202121Z
LAST-MODIFIED:20260414T202134Z
UID:12599-1777654800-1777658400@stephens.edu
SUMMARY:Senior Portfolio Closing Reception
DESCRIPTION:Come join us for a closing reception with savory dinner snacks in Davis Gallery. The showcase features student work from Communication Design and Film students.  May 1\, 5:00-6:00 p.m.
URL:https://stephens.edu/event-post/senior-portfolio-closing-reception/
LOCATION:Davis Art Gallery\, 1414 E Walnut St\, Columbia\, MO\, 65201\, United States
ATTACH;FMTTYPE=image/jpeg:https://stephens.edu/wp-content/uploads/2026/04/WornOutPosterWithFilm-Screen-Format.jpg
END:VEVENT
BEGIN:VEVENT
DTSTART;TZID=America/Chicago:20260501T180000
DTEND;TZID=America/Chicago:20260501T190000
DTSTAMP:20260424T113716
CREATED:20260414T130459Z
LAST-MODIFIED:20260414T130713Z
UID:12568-1777658400-1777662000@stephens.edu
SUMMARY:Stephens Life Spring 2026 Release Party
DESCRIPTION:Please join us for the release of the spring 2026 issue of Stephens Life Magazine! This event will be held at the Stephens College Penthouse (5th floor of the library) from 6-7 pm. Students will talk about their work and we will have merchandise\, created by the students\, that will be for sale. Refreshments will be served. \nThis event is coordinated with the Senior Portfolio Exhibition closing reception in the Davis Gallery (5-6pm).
URL:https://stephens.edu/event-post/stephens-life-spring-2026-release-party/
LOCATION:Hugh Stephens Library Penthouse\, 100 Waugh St\, Columbia\, MO\, 65201\, United States
CATEGORIES:School of Integrative Studies,Student Experience
ATTACH;FMTTYPE=image/png:https://stephens.edu/wp-content/uploads/2026/04/Stephens-Life-SP26_Connor-Frew.png
END:VEVENT
BEGIN:VEVENT
DTSTART;TZID=America/Chicago:20260508T170000
DTEND;TZID=America/Chicago:20260508T170000
DTSTAMP:20260424T113716
CREATED:20260217T174202Z
LAST-MODIFIED:20260217T174643Z
UID:11278-1778259600-1778259600@stephens.edu
SUMMARY:May 2026 Graduate Commencement Ceremony
DESCRIPTION:Please join us in celebrating our graduates!\nOur May 2026 Graduate Commencement Ceremony will be held:\nFriday\, May 8 at 5:00 p.m. in the Kimball Ballroom inside Lela Raney Wood Hall on the Stephens College campus. \n\n\n\nDirections & Parking \n\n\n\nAccessibility Information \n\n\n\nCan’t join us in person? Watch online.
URL:https://stephens.edu/event-post/may-2026-graduate-commencement/
LOCATION:Lela Raney Wood Hall (LRW)\, 6 N. College Ave\, Columbia\, MO\, 65215\, United States
ATTACH;FMTTYPE=image/png:https://stephens.edu/wp-content/uploads/2025/10/6.png
END:VEVENT
BEGIN:VEVENT
DTSTART;TZID=America/Chicago:20260509T110000
DTEND;TZID=America/Chicago:20260509T110000
DTSTAMP:20260424T113716
CREATED:20260217T174628Z
LAST-MODIFIED:20260217T174628Z
UID:11281-1778324400-1778324400@stephens.edu
SUMMARY:May 2026 Undergraduate Commencement Ceremony
DESCRIPTION:Please join us in celebrating our graduates!\nOur May 2026 Undergraduate Commencement Ceremony will be held:\nSaturday\, May 9 at 11:00 a.m. at the Missouri Theatre (203 S. 9th Street\, Columbia\, Missouri).\n\nGraduating Students: There will be a mandatory undergraduate commencement rehearsal held at the Missouri Theatre on Friday\, May 8th at 11 a.m.\n\n\nDirections & Parking \n\nAccessibility Information \n\n\nCan’t join us in person? Watch online.
URL:https://stephens.edu/event-post/may-2026-undergraduate-commencement-ceremony/
LOCATION:Missouri Theatre\, 203 S. 9th Street\, Columbia\, MO\, 65201\, United States
ATTACH;FMTTYPE=image/png:https://stephens.edu/wp-content/uploads/2025/10/Events-Calendar-Photo-1.png
END:VEVENT
END:VCALENDAR