BEGIN:VCALENDAR
VERSION:2.0
PRODID:-//Stephens College - ECPv6.15.19//NONSGML v1.0//EN
CALSCALE:GREGORIAN
METHOD:PUBLISH
X-WR-CALNAME:Stephens College
X-ORIGINAL-URL:https://stephens.edu
X-WR-CALDESC:Events for Stephens College
REFRESH-INTERVAL;VALUE=DURATION:PT1H
X-Robots-Tag:noindex
X-PUBLISHED-TTL:PT1H
BEGIN:VTIMEZONE
TZID:America/New_York
BEGIN:DAYLIGHT
TZOFFSETFROM:-0500
TZOFFSETTO:-0400
TZNAME:EDT
DTSTART:20240310T070000
END:DAYLIGHT
BEGIN:STANDARD
TZOFFSETFROM:-0400
TZOFFSETTO:-0500
TZNAME:EST
DTSTART:20241103T060000
END:STANDARD
BEGIN:DAYLIGHT
TZOFFSETFROM:-0500
TZOFFSETTO:-0400
TZNAME:EDT
DTSTART:20250309T070000
END:DAYLIGHT
BEGIN:STANDARD
TZOFFSETFROM:-0400
TZOFFSETTO:-0500
TZNAME:EST
DTSTART:20251102T060000
END:STANDARD
BEGIN:DAYLIGHT
TZOFFSETFROM:-0500
TZOFFSETTO:-0400
TZNAME:EDT
DTSTART:20260308T070000
END:DAYLIGHT
BEGIN:STANDARD
TZOFFSETFROM:-0400
TZOFFSETTO:-0500
TZNAME:EST
DTSTART:20261101T060000
END:STANDARD
END:VTIMEZONE
BEGIN:VEVENT
DTSTART;TZID=America/New_York:20251021T190000
DTEND;TZID=America/New_York:20251021T210000
DTSTAMP:20260424T192924
CREATED:20251009T144451Z
LAST-MODIFIED:20251009T150240Z
UID:8648-1761073200-1761080400@stephens.edu
SUMMARY:Stars Soccer Game vs. Harris-Stowe University
DESCRIPTION:Come cheer on the Stephens Stars Soccer Team as they take the field against Harris-Stowe University!\nGame Details:\nvs. Harris-Stowe University\n📅 Date: October 21\n🕖 Time: 7 p.m.\n📍 Location: Battle High School – Soccer (7575 E St Charles Rd\, Columbia\, MO 65202) \nBuy Tickets
URL:https://stephens.edu/event-post/stars-soccer-game-vs-harris-stowe-university/
LOCATION:Battle High School – Soccer\, 7575 E St Charles Rd\, Columbia\, MO\, 65202\, United States
CATEGORIES:Athletics,College & Campus,Community
ATTACH;FMTTYPE=image/jpeg:https://stephens.edu/wp-content/uploads/2025/10/event_flyer_70_c569e4c6-400px.jpeg
END:VEVENT
BEGIN:VEVENT
DTSTART;TZID=America/New_York:20251020T130000
DTEND;TZID=America/New_York:20251020T143000
DTSTAMP:20260424T192924
CREATED:20251013T155200Z
LAST-MODIFIED:20251020T142948Z
UID:8776-1760965200-1760970600@stephens.edu
SUMMARY:Understanding Equine Behavior Through Science with Gilly Slayter
DESCRIPTION:Join us for an engaging presentation on the history of behavioral science and how it can transform the way we understand and train horses.\nFeaturing Nationally Recognized Expert Gilly Slayter\, Via Nova Training Center (NM). Gilly Slayter will explore how applying behavioral principles allows trainers to create\, modify\, and understand equine behavior with strategy and empathy—removing ego from the process and fostering true partnership between horse and rider.\n\nGuest Speaker Event Details:\n📅 Date: Monday\, October 20\n🕘 Time: 1:00–2:30 p.m.\n📍 Location: Hugh Stephens Library Penthouse\nOpen to all Stephens students\, faculty\, and staff \n\nAbout the Speaker:\nGilly Slayter brings decades of experience in elite-level competition\, training\, and equine welfare. A USDF Bronze and Silver Medalist and former member of the USEA Developing Riders squad\, she is passionate about integrating positive reinforcement and behavioral science into traditional dressage and eventing training. Gilly is currently Barn Manager and Trainer at Via Nova Training Center in Santa Fe\, New Mexico.
URL:https://stephens.edu/event-post/understanding-equine-behavior-through-science-with-gilly-slayter/
LOCATION:Hugh Stephens Library Penthouse\, 100 Waugh St\, Columbia\, MO\, 65201\, United States
CATEGORIES:College & Campus
ATTACH;FMTTYPE=image/jpeg:https://stephens.edu/wp-content/uploads/2025/10/Gilly-Calendar-Image.jpg
END:VEVENT
END:VCALENDAR