BEGIN:VCALENDAR
VERSION:2.0
PRODID:-//Stephens College - ECPv6.15.19//NONSGML v1.0//EN
CALSCALE:GREGORIAN
METHOD:PUBLISH
X-WR-CALNAME:Stephens College
X-ORIGINAL-URL:https://stephens.edu
X-WR-CALDESC:Events for Stephens College
REFRESH-INTERVAL;VALUE=DURATION:PT1H
X-Robots-Tag:noindex
X-PUBLISHED-TTL:PT1H
BEGIN:VTIMEZONE
TZID:America/Chicago
BEGIN:DAYLIGHT
TZOFFSETFROM:-0600
TZOFFSETTO:-0500
TZNAME:CDT
DTSTART:20240310T080000
END:DAYLIGHT
BEGIN:STANDARD
TZOFFSETFROM:-0500
TZOFFSETTO:-0600
TZNAME:CST
DTSTART:20241103T070000
END:STANDARD
BEGIN:DAYLIGHT
TZOFFSETFROM:-0600
TZOFFSETTO:-0500
TZNAME:CDT
DTSTART:20250309T080000
END:DAYLIGHT
BEGIN:STANDARD
TZOFFSETFROM:-0500
TZOFFSETTO:-0600
TZNAME:CST
DTSTART:20251102T070000
END:STANDARD
BEGIN:DAYLIGHT
TZOFFSETFROM:-0600
TZOFFSETTO:-0500
TZNAME:CDT
DTSTART:20260308T080000
END:DAYLIGHT
BEGIN:STANDARD
TZOFFSETFROM:-0500
TZOFFSETTO:-0600
TZNAME:CST
DTSTART:20261101T070000
END:STANDARD
END:VTIMEZONE
BEGIN:VTIMEZONE
TZID:America/New_York
BEGIN:DAYLIGHT
TZOFFSETFROM:-0500
TZOFFSETTO:-0400
TZNAME:EDT
DTSTART:20240310T070000
END:DAYLIGHT
BEGIN:STANDARD
TZOFFSETFROM:-0400
TZOFFSETTO:-0500
TZNAME:EST
DTSTART:20241103T060000
END:STANDARD
BEGIN:DAYLIGHT
TZOFFSETFROM:-0500
TZOFFSETTO:-0400
TZNAME:EDT
DTSTART:20250309T070000
END:DAYLIGHT
BEGIN:STANDARD
TZOFFSETFROM:-0400
TZOFFSETTO:-0500
TZNAME:EST
DTSTART:20251102T060000
END:STANDARD
BEGIN:DAYLIGHT
TZOFFSETFROM:-0500
TZOFFSETTO:-0400
TZNAME:EDT
DTSTART:20260308T070000
END:DAYLIGHT
BEGIN:STANDARD
TZOFFSETFROM:-0400
TZOFFSETTO:-0500
TZNAME:EST
DTSTART:20261101T060000
END:STANDARD
BEGIN:DAYLIGHT
TZOFFSETFROM:-0500
TZOFFSETTO:-0400
TZNAME:EDT
DTSTART:20270314T070000
END:DAYLIGHT
BEGIN:STANDARD
TZOFFSETFROM:-0400
TZOFFSETTO:-0500
TZNAME:EST
DTSTART:20271107T060000
END:STANDARD
END:VTIMEZONE
BEGIN:VEVENT
DTSTART;TZID=America/Chicago:20251206T190000
DTEND;TZID=America/Chicago:20251206T213000
DTSTAMP:20260424T111908
CREATED:20251120T195912Z
LAST-MODIFIED:20251120T200551Z
UID:9414-1765047600-1765056600@stephens.edu
SUMMARY:The Staraphonics Karaoke Night
DESCRIPTION:A fun evening of karaoke with the Stephens College acapella group\, The Staraphonics. Event will be held in Senior Recital Hall.
URL:https://stephens.edu/event-post/the-staraphonics-karaoke-night/
LOCATION:Senior Hall\, 100 Waugh St\, Columbia\, MO\, 65201\, United States
CATEGORIES:College & Campus,Performing Arts,Student Experience
ATTACH;FMTTYPE=image/jpeg:https://stephens.edu/wp-content/uploads/2025/11/IMG_2769_Kendall-Aguirre-1-e1763669142373.jpeg
END:VEVENT
BEGIN:VEVENT
DTSTART;TZID=America/Chicago:20251208T080000
DTEND;TZID=America/Chicago:20251212T140000
DTSTAMP:20260424T111908
CREATED:20251203T200133Z
LAST-MODIFIED:20251203T200248Z
UID:9618-1765180800-1765548000@stephens.edu
SUMMARY:Random Acts of The Season
DESCRIPTION:Stephens College’s annual tradition\, Random Acts of the Season\, is a week-long event where different offices surprise students each day with special gifts!
URL:https://stephens.edu/event-post/random-acts-of-the-season/
LOCATION:Stephens College\, 1200 E. Broadway\, Columbia\, MO\, 65215\, United States
CATEGORIES:Student Experience
ATTACH;FMTTYPE=image/png:https://stephens.edu/wp-content/uploads/2025/12/RANDOM-ACTS-OF-THE-SEASON_Melissa-Martinez-Tor-e1764792037839.png
END:VEVENT
BEGIN:VEVENT
DTSTART;TZID=America/Chicago:20251208T180000
DTEND;TZID=America/Chicago:20251208T200000
DTSTAMP:20260424T111908
CREATED:20251204T165842Z
LAST-MODIFIED:20251204T165957Z
UID:9665-1765216800-1765224000@stephens.edu
SUMMARY:Polar Express Movie Night
DESCRIPTION:Come with MNM (Minds ‘N Motion) on a journey to polar express in Upper Student Union! There will be popcorn\, m&ms\, hot chocolate and you may even leave with a gift if you on Santa’s Good list! \n\n\n\n\nDecember 8th (6pm-8pm) | Upper Student Union in Stamper\n\n\n\n\n\n\n\n$2 General Admission Includes:\n\nTicket to watch movie\nYou pay for all your snacks ($1 each)\n\n$5 Golden Admission Includes: \n\nMovie Ticket\nSnack Combo (Unlimited Popcorn\, M&Ms\, and Hot Chocolate)
URL:https://stephens.edu/event-post/polar-express-movie-night/
LOCATION:Stamper Hall\, 1300\, Columbia\, MO\, 65201\, United States
CATEGORIES:Student Experience
ATTACH;FMTTYPE=image/jpeg:https://stephens.edu/wp-content/uploads/2025/12/IMG_1098_Natasha-Clemons.jpg
END:VEVENT
BEGIN:VEVENT
DTSTART;TZID=America/Chicago:20251210T163000
DTEND;TZID=America/Chicago:20251210T183000
DTSTAMP:20260424T111908
CREATED:20251120T200425Z
LAST-MODIFIED:20251120T200425Z
UID:9418-1765384200-1765391400@stephens.edu
SUMMARY:Christmas Card Making
DESCRIPTION:Make and decorate Christmas cards to donate to MU and Boone hospital to spread Christmas cheer to those who need it most! Students\, faculty and staff are welcome to attend!\n\n\n\n\n\n\n\n\n\n\n\nDownload the Columbia Christmas Cards Flyer
URL:https://stephens.edu/event-post/christmas-card-making/
LOCATION:Stamper Hall\, 1300\, Columbia\, MO\, 65201\, United States
CATEGORIES:College & Campus
ATTACH;FMTTYPE=image/png:https://stephens.edu/wp-content/uploads/2025/11/Screenshot-2025-11-20-at-2.02.22-PM-e1763668980418.png
END:VEVENT
BEGIN:VEVENT
DTSTART;TZID=America/Chicago:20251211T180000
DTEND;TZID=America/Chicago:20251211T210000
DTSTAMP:20260424T111908
CREATED:20251110T220729Z
LAST-MODIFIED:20251110T220729Z
UID:9184-1765476000-1765486800@stephens.edu
SUMMARY:Stephens Life Magazine Fall 2025 Release Party
DESCRIPTION:Please join us for the release of the Fall 2025 issue of Stephens Life Magazine! This event will be held at the Stephens College Penthouse (5th floor of the library) from 6-9 pm. Students will talk about their work and we will have merchandise\, created by the students\, that will be for sale. Refreshments will be served.
URL:https://stephens.edu/event-post/stephens-life-magazine-fall-2025-release-party/
LOCATION:Hugh Stephens Library Penthouse\, 100 Waugh St\, Columbia\, MO\, 65201\, United States
CATEGORIES:College & Campus,Student Experience,Student Success
ATTACH;FMTTYPE=image/jpeg:https://stephens.edu/wp-content/uploads/2025/11/Stephens-Life-ad_Connor-Frew.jpg
END:VEVENT
BEGIN:VEVENT
DTSTART;VALUE=DATE:20251212
DTEND;VALUE=DATE:20251215
DTSTAMP:20260424T111908
CREATED:20251009T142141Z
LAST-MODIFIED:20251009T142141Z
UID:8623-1765497600-1765756799@stephens.edu
SUMMARY:ELF The Musical
DESCRIPTION:Based on the beloved holiday film\, this hilarious fish-out-of-water comedy follows Buddy the Elf in his quest to find his true identity.\nBased on the beloved holiday film\, Elf The Musical is a heartwarming and hilarious tale of Buddy\, a human raised by elves at the North Pole\, who sets off to New York City to find his birth father and discover his true identity. Bursting with joyful songs\, festive spirit\, and laugh-out-loud moments\, this family-friendly musical is a delightful celebration of love\, acceptance\, and the magic of Christmas. Elf is the perfect holiday treat for audiences of all ages—spreading cheer by singing loud for all to hear! \nBook by Thomas Meehan & Bob Martin\nMusic by Matthew Sklar\nLyrics by Chad Beguelin\nBased upon the New Line Cinema film written by David Berenbaum \nElf The Musical is presented through special arrangement with Music Theatre International (MTI).\nAll authorized performance materials are also supplied by MTI. \n11 a.m. on Dec. 12 | 7:30 p.m. on Dec. 12 & 13 | 2 p.m. on Dec. 13 &14 \n\nTickets
URL:https://stephens.edu/event-post/elf-the-musical/
LOCATION:Macklanburg Playhouse\, 100 Willis Ave\, Columbia\, MO\, 65201\, United States
CATEGORIES:College & Campus,Community,Performing Arts
ATTACH;FMTTYPE=image/png:https://stephens.edu/wp-content/uploads/2025/08/25-26-FB-event-toppers-5.png
ORGANIZER;CN="Conservatory for the Performing Arts":MAILTO:boxoffice@stephens.edu
END:VEVENT
BEGIN:VEVENT
DTSTART;TZID=America/Chicago:20251212T160000
DTEND;TZID=America/Chicago:20251212T180000
DTSTAMP:20260424T111908
CREATED:20251201T140337Z
LAST-MODIFIED:20251201T140354Z
UID:9487-1765555200-1765562400@stephens.edu
SUMMARY:Prince of Wales Club Holiday Party
DESCRIPTION:Save the date: Friday\, December 12th!\nPrince of Wales Club will be hosting our annual holiday party on Friday\, December 12th from 4:00pm to 6:00pm\, and we would love to see you there! \nActivities\, snacks\, and prizes!\nOur students and members will be decorating horses’ stall fronts for a stall decorating contest\, and you all get to vote on your favorite! Each attendee will get a handful of treats to share in the horses’ stockings – the horse with the most treats at the end wins. There will also be light snacks and hot beverages provided\, with hay rides around the property weather permitting. \nRSVP for a chance to win! \nRSVP HERE! \nAnyone who RSVPs by Friday\, December 5th is automatically entered in a drawing to win a free riding lesson at the stables! A link as well as a QR code will be provided for RSVPs.\nBe sure to get your RSVP in so you don’t miss out on this opportunity!
URL:https://stephens.edu/event-post/prince-of-wales-club-holiday-party/
LOCATION:Stephens College Equestrian Center\, 203 Old 63 N\, Columbia\, MO\, 65201\, United States
CATEGORIES:Student Experience
END:VEVENT
BEGIN:VEVENT
DTSTART;TZID=America/Chicago:20251215T210000
DTEND;TZID=America/Chicago:20251215T230000
DTSTAMP:20260424T111908
CREATED:20251203T192848Z
LAST-MODIFIED:20251203T193143Z
UID:9612-1765832400-1765839600@stephens.edu
SUMMARY:Late Night Breakfast
DESCRIPTION:Late Night Breakfast is a Stephens Tradition hosted by SPC (Student Programming Council) to give the student an opportunity to relax before the week of finals.\n\nGet ready for an out-of-this-world study break — because SPC is bringing the galaxy right to Stamper!\n\n🌌 Late Night Breakfast: OUT OF THIS WORLD\n📅 Monday\, December 15 \n⏰ Starts at 9 p.m. \n📍 Stamper Dining Hall \nTheme: Aliens/Space! \nExpect cosmic vibes\, delicious late-night breakfast favorites\, BIG PRIZES and an interstellar good time featuring DJ Johnny Fuzion. And psst… rumor has it the Ten Ideals have a special surprise in store for you. 👀✨\nFuel up\, dance it out\, and celebrate the end of the semester with us!\n\nRSVP by Thursday\,  Dec 11th | Please RSVP here: Late Night Breakfast RVSP form\n\nWe look forward to celebrating with you!\n\n\n\n\n\nDownload Flyer
URL:https://stephens.edu/event-post/late-night-breakfast/
LOCATION:Stamper Hall\, 1300\, Columbia\, MO\, 65201\, United States
CATEGORIES:Student Experience
ATTACH;FMTTYPE=image/png:https://stephens.edu/wp-content/uploads/2025/12/Midnight-Breakfast-Fall-2025-3_Melissa-Martinez-Tor-e1764789999237.png
END:VEVENT
BEGIN:VEVENT
DTSTART;VALUE=DATE:20251218
DTEND;VALUE=DATE:20260112
DTSTAMP:20260424T111908
CREATED:20251009T141952Z
LAST-MODIFIED:20251009T142028Z
UID:8621-1766016000-1768175999@stephens.edu
SUMMARY:Winter Break
DESCRIPTION:Winter Break Schedule\nCampus Schedule:\n\nDec. 18-19: Campus Open\nDec. 22 – Jan. 2: Campus closed\nJan. 5 – 9: Campus Open\n\nStudent Academic Calendar:\n\nDec. 18 – Jan. 11: No classes\nClasses resume Jan. 12
URL:https://stephens.edu/event-post/winter-break/
LOCATION:Stephens College\, 1200 E. Broadway\, Columbia\, MO\, 65215\, United States
CATEGORIES:College & Campus
ATTACH;FMTTYPE=image/jpeg:https://stephens.edu/wp-content/uploads/2025/10/Events-Calendar-Photo-1.jpg
END:VEVENT
BEGIN:VEVENT
DTSTART;TZID=America/New_York:20251219T170000
DTEND;TZID=America/New_York:20251219T170000
DTSTAMP:20260424T111908
CREATED:20251014T195941Z
LAST-MODIFIED:20251215T205133Z
UID:8830-1766163600-1766163600@stephens.edu
SUMMARY:December 2025 Commencement
DESCRIPTION:Please join us in celebrating our graduates!\nOur December 2025 Commencement Ceremony will be held:\nFriday\, December 19\, 5:00pm in the Kimball Ballroom inside Lela Raney Wood Hall on the Stephens College campus. \n\n\n\nDirections & Parking \n\n\n\nAccessibility Information \n\n\n\nCan’t join us in person? Watch online.
URL:https://stephens.edu/event-post/december-2025-commencement/
LOCATION:Lela Raney Wood Hall (LRW)\, 6 N. College Ave\, Columbia\, MO\, 65215\, United States
CATEGORIES:College & Campus,Community,Student Success
ATTACH;FMTTYPE=image/png:https://stephens.edu/wp-content/uploads/2025/10/6.png
END:VEVENT
END:VCALENDAR