BEGIN:VCALENDAR
VERSION:2.0
PRODID:-//Stephens College - ECPv6.15.19//NONSGML v1.0//EN
CALSCALE:GREGORIAN
METHOD:PUBLISH
X-ORIGINAL-URL:https://stephens.edu
X-WR-CALDESC:Events for Stephens College
REFRESH-INTERVAL;VALUE=DURATION:PT1H
X-Robots-Tag:noindex
X-PUBLISHED-TTL:PT1H
BEGIN:VTIMEZONE
TZID:America/New_York
BEGIN:DAYLIGHT
TZOFFSETFROM:-0500
TZOFFSETTO:-0400
TZNAME:EDT
DTSTART:20240310T070000
END:DAYLIGHT
BEGIN:STANDARD
TZOFFSETFROM:-0400
TZOFFSETTO:-0500
TZNAME:EST
DTSTART:20241103T060000
END:STANDARD
BEGIN:DAYLIGHT
TZOFFSETFROM:-0500
TZOFFSETTO:-0400
TZNAME:EDT
DTSTART:20250309T070000
END:DAYLIGHT
BEGIN:STANDARD
TZOFFSETFROM:-0400
TZOFFSETTO:-0500
TZNAME:EST
DTSTART:20251102T060000
END:STANDARD
BEGIN:DAYLIGHT
TZOFFSETFROM:-0500
TZOFFSETTO:-0400
TZNAME:EDT
DTSTART:20260308T070000
END:DAYLIGHT
BEGIN:STANDARD
TZOFFSETFROM:-0400
TZOFFSETTO:-0500
TZNAME:EST
DTSTART:20261101T060000
END:STANDARD
BEGIN:DAYLIGHT
TZOFFSETFROM:-0500
TZOFFSETTO:-0400
TZNAME:EDT
DTSTART:20270314T070000
END:DAYLIGHT
BEGIN:STANDARD
TZOFFSETFROM:-0400
TZOFFSETTO:-0500
TZNAME:EST
DTSTART:20271107T060000
END:STANDARD
END:VTIMEZONE
BEGIN:VTIMEZONE
TZID:America/Chicago
BEGIN:DAYLIGHT
TZOFFSETFROM:-0600
TZOFFSETTO:-0500
TZNAME:CDT
DTSTART:20250309T080000
END:DAYLIGHT
BEGIN:STANDARD
TZOFFSETFROM:-0500
TZOFFSETTO:-0600
TZNAME:CST
DTSTART:20251102T070000
END:STANDARD
BEGIN:DAYLIGHT
TZOFFSETFROM:-0600
TZOFFSETTO:-0500
TZNAME:CDT
DTSTART:20260308T080000
END:DAYLIGHT
BEGIN:STANDARD
TZOFFSETFROM:-0500
TZOFFSETTO:-0600
TZNAME:CST
DTSTART:20261101T070000
END:STANDARD
BEGIN:DAYLIGHT
TZOFFSETFROM:-0600
TZOFFSETTO:-0500
TZNAME:CDT
DTSTART:20270314T080000
END:DAYLIGHT
BEGIN:STANDARD
TZOFFSETFROM:-0500
TZOFFSETTO:-0600
TZNAME:CST
DTSTART:20271107T070000
END:STANDARD
END:VTIMEZONE
BEGIN:VEVENT
DTSTART;VALUE=DATE:20251218
DTEND;VALUE=DATE:20260112
DTSTAMP:20260424T094829
CREATED:20251009T141952Z
LAST-MODIFIED:20251009T142028Z
UID:8621-1766016000-1768175999@stephens.edu
SUMMARY:Winter Break
DESCRIPTION:Winter Break Schedule\nCampus Schedule:\n\nDec. 18-19: Campus Open\nDec. 22 – Jan. 2: Campus closed\nJan. 5 – 9: Campus Open\n\nStudent Academic Calendar:\n\nDec. 18 – Jan. 11: No classes\nClasses resume Jan. 12
URL:https://stephens.edu/event-post/winter-break/
LOCATION:Stephens College\, 1200 E. Broadway\, Columbia\, MO\, 65215\, United States
CATEGORIES:College & Campus
ATTACH;FMTTYPE=image/jpeg:https://stephens.edu/wp-content/uploads/2025/10/Events-Calendar-Photo-1.jpg
END:VEVENT
BEGIN:VEVENT
DTSTART;VALUE=DATE:20260119
DTEND;VALUE=DATE:20260120
DTSTAMP:20260424T094829
CREATED:20260113T143237Z
LAST-MODIFIED:20260113T143237Z
UID:10207-1768780800-1768867199@stephens.edu
SUMMARY:Martin Luther King Jr. Day
DESCRIPTION:Campus will be closed Monday\, Jan. 19\, in observance of Martin Luther King Jr. Day.
URL:https://stephens.edu/event-post/martin-luther-king-jr-day/
LOCATION:Stephens College\, 1200 E. Broadway\, Columbia\, MO\, 65215\, United States
ATTACH;FMTTYPE=image/png:https://stephens.edu/wp-content/uploads/2026/01/4.png
END:VEVENT
BEGIN:VEVENT
DTSTART;TZID=America/Chicago:20260121T110000
DTEND;TZID=America/Chicago:20260122T130000
DTSTAMP:20260424T094829
CREATED:20260121T142653Z
LAST-MODIFIED:20260121T142653Z
UID:10446-1768993200-1769086800@stephens.edu
SUMMARY:Campus Care Project – Honoring Dr. Martin Luther King Jr.
DESCRIPTION:In honor of Dr. Martin Luther King Jr.’s legacy of service and community care\, the Student Government Association invites you to participate in the Campus Care Project. Join us in taking a moment to write notes of appreciation to campus staff who have supported and inspired you during your college journey. Your words of gratitude can make a meaningful difference.\n\nJanuary 21 & 22 | 11:00 a.m. – 1:00 p.m. | Stamper Pit \n\nWe hope you will join us in reflecting\, giving back\, and honoring Dr. King’s commitment to service.
URL:https://stephens.edu/event-post/campus-care-project-honoring-dr-martin-luther-king-jr/
LOCATION:Stamper Hall\, 1300\, Columbia\, MO\, 65201\, United States
ATTACH;FMTTYPE=image/png:https://stephens.edu/wp-content/uploads/2026/01/image1.png
END:VEVENT
BEGIN:VEVENT
DTSTART;TZID=America/Chicago:20260121T160000
DTEND;TZID=America/Chicago:20260121T170000
DTSTAMP:20260424T094829
CREATED:20251209T140136Z
LAST-MODIFIED:20260107T224743Z
UID:9770-1769011200-1769014800@stephens.edu
SUMMARY:Filmmaking BFA - Virtual Open House with Program Chair Chase Thompson
DESCRIPTION:Join us for a live Zoom Q&A session about the BFA in Filmmaking at the Conservatory. \nThis interactive session is designed for prospective and accepted students\, parents\, and anyone interested in pursuing a career in film.\nLearn about our hands-on curriculum\, industry-driven training\, application requirements\, and what makes our conservatory approach unique. Program Chair\, Chase Thompson will be available to answer your questions and offer an inside look at life in the program. \nWhether you’re curious about the admissions process or eager to understand the day-to-day experience of filmmaking training\, this is your chance to get real\, honest insight. \nHeld virtually via Zoom on January 21 at 4:00 p.m. (CST) | 5:00 p.m. (EST).  Register Here
URL:https://stephens.edu/event-post/filmmaking-bfa-virtual-open-house-with-program-chair-chase-thompson/
LOCATION:Zoom
CATEGORIES:Performing Arts
ATTACH;FMTTYPE=image/png:https://stephens.edu/wp-content/uploads/2025/12/fillmmaking_Kristy-Simpson-scaled.png
ORGANIZER;CN="Conservatory for the Performing Arts":MAILTO:boxoffice@stephens.edu
END:VEVENT
BEGIN:VEVENT
DTSTART;TZID=America/New_York:20260130T093000
DTEND;TZID=America/New_York:20260130T150000
DTSTAMP:20260424T094829
CREATED:20251014T191317Z
LAST-MODIFIED:20251014T191326Z
UID:8819-1769765400-1769785200@stephens.edu
SUMMARY:Preview Day
DESCRIPTION:This is your opportunity to experience a college and culture that embraces YOU.\nWe believe in hands-on (we like to call it “hands-IN”)\, immersive learning\, critical thinking and empowering women’s leadership and personal success. \n\n\nRegister For Preview Day\n\nPreview Day Agenda:\n\n9:30 – 10:00 a.m. – Check-in\n10:00 – 10:15 a.m. – Welcome to Stephens\n10:15 – 11:30 a.m. – Overview of Financial Aid\, Academics and Student Experience (Life on Campus and Study Abroad Experience)\n11:30 – 11:45 a.m. – Student Panel\n11:45 a.m. – 12:30 p.m. – Campus Tour\n12:30 – 1:30 p.m. – Enjoy lunch on us at Stamper Dining Hall and grab your Stephens gear at Susie’s\n1:30 – 3:00 p.m. – Immersive Experience
URL:https://stephens.edu/event-post/1-30-26-preview-day/
LOCATION:Lela Raney Wood Hall (LRW)\, 6 N. College Ave\, Columbia\, MO\, 65215\, United States
CATEGORIES:Admissions,College & Campus
ATTACH;FMTTYPE=image/png:https://stephens.edu/wp-content/uploads/2024/10/Events-Calendar-Photo.png
END:VEVENT
END:VCALENDAR